BEGIN:VCALENDAR
VERSION:2.0
PRODID:-//Recycled Art Supplies - ECPv6.15.20//NONSGML v1.0//EN
CALSCALE:GREGORIAN
METHOD:PUBLISH
X-ORIGINAL-URL:https://recycledartsupplies.org
X-WR-CALDESC:Events for Recycled Art Supplies
REFRESH-INTERVAL;VALUE=DURATION:PT1H
X-Robots-Tag:noindex
X-PUBLISHED-TTL:PT1H
BEGIN:VTIMEZONE
TZID:UTC
BEGIN:STANDARD
TZOFFSETFROM:+0000
TZOFFSETTO:+0000
TZNAME:UTC
DTSTART:20200101T000000
END:STANDARD
END:VTIMEZONE
BEGIN:VEVENT
DTSTART;VALUE=DATE:20210101
DTEND;VALUE=DATE:20210202
DTSTAMP:20260423T184331
CREATED:20201204T190708Z
LAST-MODIFIED:20201230T212425Z
UID:105-1609459200-1612223999@recycledartsupplies.org
SUMMARY:Recycled Art Supplies Collection
DESCRIPTION:Art Supply Drive: \nPlease Drop off Gently Used Art Supplies to be redistributed to low income\, foster youth\, and those located in rural areas within San Bernardino county and Riverside Counties. \nYou can find out more information about how to apply here.  \n 
URL:https://recycledartsupplies.org/event/recycled-art-supplies-collection/
LOCATION:The Artlands\, 18 E Vine St\, Redlands\, CA\, 92373\, United States
CATEGORIES:Drop off
END:VEVENT
END:VCALENDAR